{"text_format":"1","workbook":"xlsx","n_sheets":2,"sheets":["WM2021","Player"],"not_rendered":{"charts":0,"images":1,"macros":1,"external_links":0,"defined_names":1,"comments":0,"pivot_tables":0},"unopened":[],"bounds":{"document_bytes":16777216,"sheet_cells":100000,"rows_first":2000,"rows_last":500,"rows_between":2000,"halvings":0,"cell_chars":16384,"cell_head_chars":4096},"cells_cut":0,"cells_raw":0,"read":"whole","date_system":"1900"}

{"sheet":"WM2021","index":0,"n_rows":51,"n_cols":15,"rows_kept":51,"cut":false,"hidden":false,"merged":[[9,13,9,15],[4,3,6,3],[4,14,4,15],[5,6,11,6],[6,14,6,15],[8,9,20,9],[10,13,11,15],[10,3,12,3],[14,12,39,12],[16,3,18,3],[17,6,23,6],[22,3,24,3],[35,3,37,3],[29,3,31,3],[30,6,36,6],[33,9,45,9],[16,13,16,15],[17,13,18,15],[41,3,43,3],[42,6,48,6],[47,3,49,3],[41,13,41,14],[42,13,43,14],[46,13,46,14],[25,7,28,11]]}
[]
[null,"1. Runde","x",null,"Achtelfinale","x",null,"Viertelfinale","x",null,"Halbfinale","x",null,"Finale","x"]
[null,null,"Doppelklick"]
[1,{"$f":"VLOOKUP(A4,Player!$A$2:$B$17,2,FALSE)","v":"Ronnie O´Sullivan"},null,null,null,null,null,null,null,null,"Doppelklick bei Ergebnis machen!"]
[32,{"$f":"Player!C2","v":"Mark Joyce"},null,null,{"$f":"IF(AND(C5=\"\",C4=\"\"),\"\",IF(C4=\"x\",B4,B5))","v":""},null,null,null,null,null,null,null,null,"Highbreak:"]
[]
[16,{"$f":"VLOOKUP(A7,Player!$A$2:$B$17,2,FALSE)","v":"Anthony McGill"},null,null,{"$f":"IF(AND(C7=\"\",C8=\"\"),\"\",IF(C7=\"x\",B7,B8))","v":""},null,null,null,null,null,null,null,null,"Anzahl der Century`s:"]
[17,{"$f":"Player!C3","v":"Ricky Walden"},null,null,null,null,null,{"$f":"IF(AND(F5=\"\",F7=\"\"),\"\",IF(F5=\"x\",E5,E7))","v":""}]
[]
[9,{"$f":"VLOOKUP(A10,Player!$A$2:$B$17,2,FALSE)","v":"Ding Junhui"},null,null,null,null,null,{"$f":"IF(AND(F11=\"\",F13=\"\"),\"\",IF(F11=\"x\",E11,E13))","v":""},null,null,null,null,null,"Wer spielt das Highbreak?"]
[24,{"$f":"Player!C4","v":"Stuart Bingham"},null,null,{"$f":"IF(AND(C11=\"\",C10=\"\"),\"\",IF(C10=\"x\",B10,B11))","v":""}]
[]
[8,{"$f":"VLOOKUP(A13,Player!$A$2:$B$17,2,FALSE)","v":"Stephen Maguire"},null,null,{"$f":"IF(AND(C13=\"\",C14=\"\"),\"\",IF(C13=\"x\",B13,B14))","v":""}]
[25,{"$f":"Player!C5","v":"Jamie Jones"},null,null,null,null,null,null,null,null,{"$f":"IF(AND(I8=\"\",I10=\"\"),\"\",IF(I8=\"x\",H8,H10))","v":""}]
[]
[5,{"$f":"VLOOKUP(A16,Player!$A$2:$B$17,2,FALSE)","v":"John Higgins"},null,null,null,null,null,null,null,null,{"$f":"IF(AND(I20=\"\",I22=\"\"),\"\",IF(I20=\"x\",H20,H22))","v":""}]
[28,{"$f":"Player!C6","v":"Tian Pengfei"},null,null,{"$f":"IF(AND(C17=\"\",C16=\"\"),\"\",IF(C16=\"x\",B16,B17))","v":""},null,null,null,null,null,null,null,null,"World Champion 2021"]
[null,null,null,null,null,null,null,null,null,null,null,null,null,{"$f":"IF(AND(O26=\"\",O29=\"\"),\"\",IF(O26=\"x\",N26,N29))","v":""}]
[12,{"$f":"VLOOKUP(A19,Player!$A$2:$B$17,2,FALSE)","v":"Mark Williams"},null,null,{"$f":"IF(AND(C19=\"\",C20=\"\"),\"\",IF(C19=\"x\",B19,B20))","v":""}]
[21,{"$f":"Player!C7","v":"Sam Craigie"},null,null,null,null,null,{"$f":"IF(AND(F17=\"\",F19=\"\"),\"\",IF(F17=\"x\",E17,E19))","v":""}]
[]
[13,{"$f":"VLOOKUP(A22,Player!$A$2:$B$17,2,FALSE)","v":"Mark Allen"},null,null,null,null,null,{"$f":"IF(AND(F23=\"\",F25=\"\"),\"\",IF(F23=\"x\",E23,E25))","v":""}]
[20,{"$f":"Player!C8","v":"Lyu Haotian"},null,null,{"$f":"IF(AND(C23=\"\",C22=\"\"),\"\",IF(C22=\"x\",B22,B23))","v":""}]
[]
[4,{"$f":"VLOOKUP(A25,Player!$A$2:$B$17,2,FALSE)","v":"Mark Selby"},null,null,{"$f":"IF(AND(C25=\"\",C26=\"\"),\"\",IF(C25=\"x\",B25,B26))","v":""}]
[29,{"$f":"Player!C9","v":"Kurt Maflin"},null,null,null,null,null,"World Championship Snooker 2021",null,null,null,null,null,{"$f":"IF(AND(L14=\"\",L16=\"\"),\"\",IF(L14=\"x\",K14,K16))","v":""}]
[]
[]
[3,{"$f":"VLOOKUP(A29,Player!$A$2:$B$17,2,FALSE)","v":"Neil Robertson"},null,null,null,null,null,null,null,null,null,null,null,{"$f":"IF(AND(L39=\"\",L41=\"\"),\"\",IF(L39=\"x\",K39,K41))","v":""}]
[30,{"$f":"Player!C10","v":"Liang Wenbo"},null,null,{"$f":"IF(AND(C30=\"\",C29=\"\"),\"\",IF(C29=\"x\",B29,B30))","v":""}]
[]
[14,{"$f":"VLOOKUP(A32,Player!$A$2:$B$17,2,FALSE)","v":"Jack Lisowski"},null,null,{"$f":"IF(AND(C32=\"\",C33=\"\"),\"\",IF(C32=\"x\",B32,B33))","v":""}]
[19,{"$f":"Player!C11","v":"Ali Carter"},null,null,null,null,null,{"$f":"IF(AND(F30=\"\",F32=\"\"),\"\",IF(F30=\"x\",E30,E32))","v":""}]
[]
[11,{"$f":"VLOOKUP(A35,Player!$A$2:$B$17,2,FALSE)","v":"Barry Hawkins"},null,null,null,null,null,{"$f":"IF(AND(F36=\"\",F38=\"\"),\"\",IF(F36=\"x\",E36,E38))","v":""}]
[22,{"$f":"Player!C12","v":"Matthew Selt"},null,null,{"$f":"IF(AND(C36=\"\",C35=\"\"),\"\",IF(C35=\"x\",B35,B36))","v":""}]
[]
[6,{"$f":"VLOOKUP(A38,Player!$A$2:$B$17,2,FALSE)","v":"Kyren Wilson"},null,null,{"$f":"IF(AND(C38=\"\",C39=\"\"),\"\",IF(C38=\"x\",B38,B39))","v":""}]
[27,{"$f":"Player!C13","v":"Gary Wilson"},null,null,null,null,null,null,null,null,{"$f":"IF(AND(I33=\"\",I35=\"\"),\"\",IF(I33=\"x\",H33,H35))","v":""}]
[]
[7,{"$f":"VLOOKUP(A41,Player!$A$2:$B$17,2,FALSE)","v":"Shaun Murphy"},null,null,null,null,null,null,null,null,{"$f":"IF(AND(I45=\"\",I47=\"\"),\"\",IF(I45=\"x\",H45,H47))","v":""}]
[26,{"$f":"Player!C14","v":"Mark Davis"},null,null,{"$f":"IF(AND(C42=\"\",C41=\"\"),\"\",IF(C41=\"x\",B41,B42))","v":""},null,null,null,null,null,null,null,null,"Dein Name"]
[]
[10,{"$f":"VLOOKUP(A44,Player!$A$2:$B$17,2,FALSE)","v":"Yan Bingtao"},null,null,{"$f":"IF(AND(C44=\"\",C45=\"\"),\"\",IF(C44=\"x\",B44,B45))","v":""}]
[23,{"$f":"Player!C15","v":"Martin Gould"},null,null,null,null,null,{"$f":"IF(AND(F42=\"\",F44=\"\"),\"\",IF(F42=\"x\",E42,E44))","v":""}]
[]
[15,{"$f":"VLOOKUP(A47,Player!$A$2:$B$17,2,FALSE)","v":"David Gilbert"},null,null,null,null,null,{"$f":"IF(AND(F48=\"\",F50=\"\"),\"\",IF(F48=\"x\",E48,E50))","v":""},null,null,null,null,null,"Spieleinsatz 5€"]
[18,{"$f":"Player!C16","v":"Chris Wakelin"},null,null,{"$f":"IF(AND(C48=\"\",C47=\"\"),\"\",IF(C47=\"x\",B47,B48))","v":""}]
[]
[2,{"$f":"VLOOKUP(A50,Player!$A$2:$B$17,2,FALSE)","v":"Judd Trump"},null,null,{"$f":"IF(AND(C50=\"\",C51=\"\"),\"\",IF(C50=\"x\",B50,B51))","v":""}]
[31,{"$f":"Player!C17","v":"Liam Highfield"}]

{"sheet":"Player","index":1,"n_rows":17,"n_cols":5,"rows_kept":17,"cut":false,"hidden":false,"merged":[[1,4,10,9]]}
[null,"gesetzte Spieler","Qualifikanten"]
[1,"Ronnie O´Sullivan","Mark Joyce",null,"Wer Lust und Laune hat kann mitspielen!\nSpieleinsatz 5 Euro pro abgegebenen Tipp, in die Kasse im Snookerclub Limbach-Oberfrohna\nVom 15. -17.04.2021 können die Tippscheine abgegeben werden, entweder im Club oder per Email. Egal wieviele Tipps ihr abgebt. Annahmeschluß ist am 17.04.2021 genau 10:00 Uhr!\nAllen Teilnehmern viel Spaß und Erfolg!\nBei den Paarungen bitte nur einen Doppelklick machen, das Highbreak und den Spieler angeben und natürlich die Anzahl der Breaks. Vergesst euren Namen nicht einzutragen!"]
[16,"Anthony McGill","Ricky Walden"]
[9,"Ding Junhui","Stuart Bingham"]
[8,"Stephen Maguire","Jamie Jones"]
[5,"John Higgins","Tian Pengfei"]
[12,"Mark Williams","Sam Craigie"]
[13,"Mark Allen","Lyu Haotian"]
[4,"Mark Selby","Kurt Maflin"]
[3,"Neil Robertson","Liang Wenbo"]
[14,"Jack Lisowski","Ali Carter"]
[11,"Barry Hawkins","Matthew Selt"]
[6,"Kyren Wilson","Gary Wilson"]
[7,"Shaun Murphy","Mark Davis"]
[10,"Yan Bingtao","Martin Gould"]
[15,"David Gilbert","Chris Wakelin"]
[2,"Judd Trump","Liam Highfield"]